BEGIN:VCALENDAR
VERSION:2.0
PRODID:-//wp-events-plugin.com//7.2.3.1//EN
TZID:America/Los_Angeles
X-WR-TIMEZONE:America/Los_Angeles
BEGIN:VEVENT
UID:3@groupshootmeetup.com
DTSTART;TZID=America/Los_Angeles:20260418T120000
DTEND;TZID=America/Los_Angeles:20260418T193000
DTSTAMP:20260415T141524Z
URL:https://groupshootmeetup.com/events/165/
SUMMARY:Top Models Anaheim
DESCRIPTION:\nRSVP NOW or you might miss out!\n(Last 5 events SOLD OUT!)\nW
 OW What a line-up! Don't this one!\nWe present you with SoCal's TOP models
  with flower head crown spring theme!\nSaturday April 18. It's time to add
  a little theme to our events with these super sexy models! Space is limit
 ed so ACT NOW or you will miss out!\nJust look at these amazing models you
  will get to shoot\, and all this can be yours to photograph for just *$80
  plus tip if you are among the first 10 to RSVP! Limited to just 14 photog
 raphers\, you are sure to get your full share of images from all these ama
 zing models! RSVP and pay now and save $20!  (reg price is $100 + $60 tip
 ) - Models if you have a good spring theme skirt - bring it for topless!\n
 Saturday April 18th - MEGA Models meet at 12 noon PM for signups - photogr
 aphers 12:15 PM!\nSegments: (NEW THEMES!)\n#1 Bottoms (models choice botto
 ms with a spring theme and a bra or bikini top!) Heads sets will be availa
 ble at location (see mike)\n#2 Group Shoot with all the models together!\n
 #3 Group shoot with the models and you (just hand your camera to one of th
 e other photographers! He'll get your picture with these amazing models!)\
 n#4 Tops off while we get pizza for the models (Bikini bottoms or spring t
 heme!)\n#5 After a pizza break - Full Nudes! Photographers *would you like
  some pizza?? (see below!)\n#6 Group shoot of all models nude!\n#7 Optiona
 l 1on1s! (bring extra cash if interested!)\nWow you will have lots of shoo
 ting to do\, so make sure your trigger finger is in good shape and ready f
 or action Sunday January 4th! (CHARGE BATTERIES AND Clean Film Cards!)\nLO
 CATION:\nWe should have enough parking permits\, but if we run out you can
  just park around the corner (not far) but drop of your stuff first if you
  want! Enter through the gate on the right!\n1658 W. Cris Ave\, Anaheim\,
  92802\n\n\n 	Pizza... We will be buying pizza for the models\, if photogr
 aphers would like some pizza as well\, kindly bring a $5 bill (we won't ha
 ve change) to pitch in so we can buy enough!\n 	Crystal will bring water f
 or everyone!\n\nIntroducing Crystal!\n\nRespect!\nMike has graciously allo
 wed us to use his home for this special community photography event. Pleas
 e respect his property! Respect the models\, DO NOT TOUCH or you will be r
 emoved! Respect the other photographers\, take turns - don't hog! "Be a go
 od guy!" or girl - yes female photographers are always welcome to our even
 ts as well!\nONLY TWO SPOTS LEFT!!! Cost (EARLY BIRD SPECIAL) $80 plus $60
  cash tip! Kindly PrePay the $80 on PayPal and bring the $60 cash for the 
 featured models tip. (and extra if you want in on the pizza and 1on1s!)\nA
 fter your RSVP below PrePay here: https://groupshootmeetup.com/paynow/ Af
 ter 10 signups we will move the cost up by $20.\nHost and Model: Crystal\n
 Featured Models:\nRachel\nCrystal\nKate\nCali\nGuest Models will be invite
 d!\nGuest Model - Skyler\nGuest Model - Empress\nGuest model - Sage\nGuest
  Model - Serina\n\n[gallery link="file" size="medium" columns="4" ids="196
 \,80\,161\,182\,194\,159\,72\,195\,160\,183\,192\,191\,190\,193\,74\,197"]
 \n\nRSVP BELOW! - You must have a FREE account and be logged in!
LOCATION:Mikes\, 1658 W. Cris Ave\, Anaheim\, CA\, 92802\, United States
X-APPLE-STRUCTURED-LOCATION;VALUE=URI;X-ADDRESS=1658 W. Cris Ave\, Anaheim\
 , CA\, 92802\, United States;X-APPLE-RADIUS=100;X-TITLE=Mikes:geo:0,0
END:VEVENT
BEGIN:VTIMEZONE
TZID:America/Los_Angeles
X-LIC-LOCATION:America/Los_Angeles
BEGIN:DAYLIGHT
DTSTART:20260308T030000
TZOFFSETFROM:-0800
TZOFFSETTO:-0700
TZNAME:PDT
END:DAYLIGHT
END:VTIMEZONE
END:VCALENDAR